Package: triplex Version: 1.44.0 Command: /Library/Frameworks/R.framework/Resources/bin/R CMD check --install=check:triplex.install-out.txt --library=/Library/Frameworks/R.framework/Resources/library --no-vignettes --timings triplex_1.44.0.tar.gz StartedAt: 2024-06-11 08:56:00 -0400 (Tue, 11 Jun 2024) EndedAt: 2024-06-11 08:58:20 -0400 (Tue, 11 Jun 2024) EllapsedTime: 140.0 seconds RetCode: 0 Status: WARNINGS CheckDir: triplex.Rcheck Warnings: 2