Package: triplex Version: 1.44.0 Command: /Library/Frameworks/R.framework/Resources/bin/R CMD check --install=check:triplex.install-out.txt --library=/Library/Frameworks/R.framework/Resources/library --no-vignettes --timings triplex_1.44.0.tar.gz StartedAt: 2024-10-18 15:55:43 -0400 (Fri, 18 Oct 2024) EndedAt: 2024-10-18 15:57:33 -0400 (Fri, 18 Oct 2024) EllapsedTime: 110.0 seconds RetCode: 0 Status: WARNINGS CheckDir: triplex.Rcheck Warnings: 2