Package: triplex Version: 1.44.0 Command: /Library/Frameworks/R.framework/Resources/bin/R CMD build --keep-empty-dirs --no-resave-data triplex StartedAt: 2024-10-17 11:02:36 -0400 (Thu, 17 Oct 2024) EndedAt: 2024-10-17 11:03:19 -0400 (Thu, 17 Oct 2024) EllapsedTime: 43.2 seconds RetCode: 0 Status: OK PackageFile: triplex_1.44.0.tar.gz PackageFileSize: 600 KiB