Package: triplex Version: 1.44.0 Command: rm -rf triplex.buildbin-libdir && mkdir triplex.buildbin-libdir && /Users/biocbuild/BBS/utils/build-universal.sh triplex_1.44.0.tar.gz /Library/Frameworks/R.framework/Resources/bin/R triplex.buildbin-libdir StartedAt: 2024-10-15 20:43:05 -0400 (Tue, 15 Oct 2024) EndedAt: 2024-10-15 20:43:31 -0400 (Tue, 15 Oct 2024) EllapsedTime: 25.8 seconds RetCode: 0 Status: OK PackageFile: triplex_1.44.0.tgz PackageFileSize: 935.3 KiB