Package: triplex Version: 1.44.0 Maintainer: Jiri Hon MaintainerEmail: jiri.hon at gmail.com git_url: https://git.bioconductor.org/packages/triplex git_branch: RELEASE_3_19 git_last_commit: a4f5ab3 git_last_commit_date: 2024-04-30 10:31:42 -0400 (Tue, 30 Apr 2024)