Package: trio Version: 3.42.0 Command: chmod a+r trio -R && E:\biocbuild\bbs-3.19-bioc\R\bin\R.exe CMD build --keep-empty-dirs --no-resave-data trio StartedAt: 2024-10-16 22:25:27 -0400 (Wed, 16 Oct 2024) EndedAt: 2024-10-16 22:26:45 -0400 (Wed, 16 Oct 2024) EllapsedTime: 77.5 seconds RetCode: 0 Status: OK PackageFile: trio_3.42.0.tar.gz PackageFileSize: 692.2 KiB