Package: trio Version: 3.42.0 Command: rm -rf trio.buildbin-libdir && mkdir trio.buildbin-libdir && E:\biocbuild\bbs-3.19-bioc\R\bin\R.exe CMD INSTALL --build --library=trio.buildbin-libdir trio_3.42.0.tar.gz StartedAt: 2024-10-17 08:49:01 -0400 (Thu, 17 Oct 2024) EndedAt: 2024-10-17 08:50:04 -0400 (Thu, 17 Oct 2024) EllapsedTime: 62.6 seconds RetCode: 0 Status: OK PackageFile: trio_3.42.0.zip PackageFileSize: 1.558 MiB