Package: trio Version: 3.42.0 Command: chmod a+r trio -R && F:\biocbuild\bbs-3.19-bioc\R\bin\R.exe CMD build --keep-empty-dirs --no-resave-data trio StartedAt: 2024-06-26 22:27:40 -0400 (Wed, 26 Jun 2024) EndedAt: 2024-06-26 22:28:50 -0400 (Wed, 26 Jun 2024) EllapsedTime: 70.3 seconds RetCode: 0 Status: OK PackageFile: trio_3.42.0.tar.gz PackageFileSize: 692.2 KiB