Package: trio Version: 3.42.0 Command: rm -rf trio.buildbin-libdir && mkdir trio.buildbin-libdir && F:\biocbuild\bbs-3.19-bioc\R\bin\R.exe CMD INSTALL --build --library=trio.buildbin-libdir trio_3.42.0.tar.gz StartedAt: 2024-06-27 09:04:22 -0400 (Thu, 27 Jun 2024) EndedAt: 2024-06-27 09:05:04 -0400 (Thu, 27 Jun 2024) EllapsedTime: 41.8 seconds RetCode: 0 Status: OK PackageFile: trio_3.42.0.zip PackageFileSize: 1.558 MiB