Package: trio Version: 3.42.0 Command: /home/biocbuild/bbs-3.19-bioc/R/bin/R CMD build --keep-empty-dirs --no-resave-data trio StartedAt: 2024-10-16 21:14:47 -0400 (Wed, 16 Oct 2024) EndedAt: 2024-10-16 21:15:34 -0400 (Wed, 16 Oct 2024) EllapsedTime: 47.1 seconds RetCode: 0 Status: OK PackageFile: trio_3.42.0.tar.gz PackageFileSize: 689.9 KiB