Package: trio Version: 3.42.0 Command: /Library/Frameworks/R.framework/Resources/bin/R CMD INSTALL trio StartedAt: 2024-10-16 16:26:00 -0400 (Wed, 16 Oct 2024) EndedAt: 2024-10-16 16:27:07 -0400 (Wed, 16 Oct 2024) EllapsedTime: 66.6 seconds RetCode: 0 Status: OK