Package: trio Version: 3.42.0 Command: /Library/Frameworks/R.framework/Resources/bin/R CMD build --keep-empty-dirs --no-resave-data trio StartedAt: 2024-10-17 00:05:30 -0400 (Thu, 17 Oct 2024) EndedAt: 2024-10-17 00:08:12 -0400 (Thu, 17 Oct 2024) EllapsedTime: 161.9 seconds RetCode: 0 Status: OK PackageFile: trio_3.42.0.tar.gz PackageFileSize: 748 KiB