Package: trio Version: 3.42.0 Command: rm -rf trio.buildbin-libdir && mkdir trio.buildbin-libdir && /Users/biocbuild/BBS/utils/build-universal.sh trio_3.42.0.tar.gz /Library/Frameworks/R.framework/Resources/bin/R trio.buildbin-libdir StartedAt: 2024-10-17 17:23:38 -0400 (Thu, 17 Oct 2024) EndedAt: 2024-10-17 17:24:49 -0400 (Thu, 17 Oct 2024) EllapsedTime: 70.9 seconds RetCode: 0 Status: OK PackageFile: trio_3.42.0.tgz PackageFileSize: 1.604 MiB