Package: trio Version: 3.42.0 Command: /Library/Frameworks/R.framework/Resources/bin/R CMD check --install=check:trio.install-out.txt --library=/Library/Frameworks/R.framework/Resources/library --no-vignettes --timings trio_3.42.0.tar.gz StartedAt: 2024-06-09 23:39:29 -0400 (Sun, 09 Jun 2024) EndedAt: 2024-06-09 23:42:28 -0400 (Sun, 09 Jun 2024) EllapsedTime: 179.6 seconds RetCode: 0 Status: OK CheckDir: trio.Rcheck Warnings: 0