Package: trio Version: 3.42.0 Command: rm -rf trio.buildbin-libdir && mkdir trio.buildbin-libdir && /Users/biocbuild/BBS/utils/build-universal.sh trio_3.42.0.tar.gz /Library/Frameworks/R.framework/Resources/bin/R trio.buildbin-libdir StartedAt: 2024-06-10 00:44:31 -0400 (Mon, 10 Jun 2024) EndedAt: 2024-06-10 00:45:08 -0400 (Mon, 10 Jun 2024) EllapsedTime: 36.1 seconds RetCode: 0 Status: OK PackageFile: trio_3.42.0.tgz PackageFileSize: 1.603 MiB