Package: trio Version: 3.42.0 Command: /home/biocbuild/R/R-beta-2024-04-15_r86425/bin/R CMD build --keep-empty-dirs --no-resave-data trio StartedAt: 2024-05-09 04:12:50 -0000 (Thu, 09 May 2024) EndedAt: 2024-05-09 04:13:59 -0000 (Thu, 09 May 2024) EllapsedTime: 69.1 seconds RetCode: 0 Status: OK PackageFile: trio_3.42.0.tar.gz PackageFileSize: 737 KiB