Package: trio Version: 3.42.0 Command: /Library/Frameworks/R.framework/Resources/bin/R CMD check --install=check:trio.install-out.txt --library=/Library/Frameworks/R.framework/Resources/library --no-vignettes --timings trio_3.42.0.tar.gz StartedAt: 2024-06-11 08:53:12 -0400 (Tue, 11 Jun 2024) EndedAt: 2024-06-11 08:57:13 -0400 (Tue, 11 Jun 2024) EllapsedTime: 241.2 seconds RetCode: 0 Status: OK CheckDir: trio.Rcheck Warnings: 0