Package: trigger Version: 1.50.0 Command: E:\biocbuild\bbs-3.19-bioc\R\bin\R.exe CMD INSTALL trigger StartedAt: 2024-10-16 17:04:09 -0400 (Wed, 16 Oct 2024) EndedAt: 2024-10-16 17:04:46 -0400 (Wed, 16 Oct 2024) EllapsedTime: 37.7 seconds RetCode: 0 Status: OK