Package: trigger Version: 1.50.0 Command: E:\biocbuild\bbs-3.19-bioc\R\bin\R.exe CMD check --no-multiarch --install=check:trigger.install-out.txt --library=E:\biocbuild\bbs-3.19-bioc\R\library --no-vignettes --timings trigger_1.50.0.tar.gz StartedAt: 2024-10-17 06:42:22 -0400 (Thu, 17 Oct 2024) EndedAt: 2024-10-17 06:45:34 -0400 (Thu, 17 Oct 2024) EllapsedTime: 192.1 seconds RetCode: 0 Status: OK CheckDir: trigger.Rcheck Warnings: 0