Package: trigger Version: 1.50.0 Command: chmod a+r trigger -R && E:\biocbuild\bbs-3.19-bioc\R\bin\R.exe CMD build --keep-empty-dirs --no-resave-data trigger StartedAt: 2024-10-16 22:25:24 -0400 (Wed, 16 Oct 2024) EndedAt: 2024-10-16 22:28:27 -0400 (Wed, 16 Oct 2024) EllapsedTime: 183.2 seconds RetCode: 0 Status: OK PackageFile: trigger_1.50.0.tar.gz PackageFileSize: 1.708 MiB