Package: trigger Version: 1.50.0 Command: rm -rf trigger.buildbin-libdir && mkdir trigger.buildbin-libdir && E:\biocbuild\bbs-3.19-bioc\R\bin\R.exe CMD INSTALL --build --library=trigger.buildbin-libdir trigger_1.50.0.tar.gz StartedAt: 2024-10-17 08:48:57 -0400 (Thu, 17 Oct 2024) EndedAt: 2024-10-17 08:49:53 -0400 (Thu, 17 Oct 2024) EllapsedTime: 55.7 seconds RetCode: 0 Status: OK PackageFile: trigger_1.50.0.zip PackageFileSize: 2.081 MiB