Package: trigger Version: 1.50.0 Command: rm -rf trigger.buildbin-libdir && mkdir trigger.buildbin-libdir && F:\biocbuild\bbs-3.19-bioc\R\bin\R.exe CMD INSTALL --build --library=trigger.buildbin-libdir trigger_1.50.0.tar.gz StartedAt: 2024-06-27 09:04:20 -0400 (Thu, 27 Jun 2024) EndedAt: 2024-06-27 09:04:58 -0400 (Thu, 27 Jun 2024) EllapsedTime: 37.5 seconds RetCode: 0 Status: OK PackageFile: trigger_1.50.0.zip PackageFileSize: 2.08 MiB