Package: trigger Version: 1.50.0 Command: /home/biocbuild/bbs-3.19-bioc/R/bin/R CMD INSTALL trigger StartedAt: 2024-10-16 16:33:42 -0400 (Wed, 16 Oct 2024) EndedAt: 2024-10-16 16:34:07 -0400 (Wed, 16 Oct 2024) EllapsedTime: 25.0 seconds RetCode: 0 Status: OK