Package: trigger Version: 1.50.0 Command: /home/biocbuild/bbs-3.19-bioc/R/bin/R CMD build --keep-empty-dirs --no-resave-data trigger StartedAt: 2024-10-16 21:14:38 -0400 (Wed, 16 Oct 2024) EndedAt: 2024-10-16 21:16:50 -0400 (Wed, 16 Oct 2024) EllapsedTime: 132.3 seconds RetCode: 0 Status: OK PackageFile: trigger_1.50.0.tar.gz PackageFileSize: 1.705 MiB