Package: trigger Version: 1.50.0 Command: /Library/Frameworks/R.framework/Resources/bin/R CMD INSTALL trigger StartedAt: 2024-10-16 16:26:20 -0400 (Wed, 16 Oct 2024) EndedAt: 2024-10-16 16:27:21 -0400 (Wed, 16 Oct 2024) EllapsedTime: 61.0 seconds RetCode: 0 Status: OK