Package: trigger Version: 1.50.0 Command: /Library/Frameworks/R.framework/Resources/bin/R CMD build --keep-empty-dirs --no-resave-data trigger StartedAt: 2024-06-09 18:28:40 -0400 (Sun, 09 Jun 2024) EndedAt: 2024-06-09 18:31:00 -0400 (Sun, 09 Jun 2024) EllapsedTime: 140.8 seconds RetCode: 0 Status: OK PackageFile: trigger_1.50.0.tar.gz PackageFileSize: 1.838 MiB