Package: trigger Version: 1.50.0 Command: rm -rf trigger.buildbin-libdir && mkdir trigger.buildbin-libdir && /Users/biocbuild/BBS/utils/build-universal.sh trigger_1.50.0.tar.gz /Library/Frameworks/R.framework/Resources/bin/R trigger.buildbin-libdir StartedAt: 2024-06-10 00:44:28 -0400 (Mon, 10 Jun 2024) EndedAt: 2024-06-10 00:45:07 -0400 (Mon, 10 Jun 2024) EllapsedTime: 38.5 seconds RetCode: 0 Status: OK PackageFile: trigger_1.50.0.tgz PackageFileSize: 2.207 MiB