Package: trigger Version: 1.50.0 Command: /home/biocbuild/R/R-beta-2024-04-15_r86425/bin/R CMD build --keep-empty-dirs --no-resave-data trigger StartedAt: 2024-05-09 04:12:44 -0000 (Thu, 09 May 2024) EndedAt: 2024-05-09 04:15:47 -0000 (Thu, 09 May 2024) EllapsedTime: 183.2 seconds RetCode: 0 Status: OK PackageFile: trigger_1.50.0.tar.gz PackageFileSize: 1.829 MiB