Package: trigger Version: 1.50.0 Command: /Library/Frameworks/R.framework/Resources/bin/R CMD build --keep-empty-dirs --no-resave-data trigger StartedAt: 2024-06-10 06:12:27 -0400 (Mon, 10 Jun 2024) EndedAt: 2024-06-10 06:15:35 -0400 (Mon, 10 Jun 2024) EllapsedTime: 188.0 seconds RetCode: 0 Status: OK PackageFile: trigger_1.50.0.tar.gz PackageFileSize: 1.839 MiB