Package: trigger Version: 1.50.0 Command: /Library/Frameworks/R.framework/Resources/bin/R CMD check --install=check:trigger.install-out.txt --library=/Library/Frameworks/R.framework/Resources/library --no-vignettes --timings trigger_1.50.0.tar.gz StartedAt: 2024-10-18 15:53:08 -0400 (Fri, 18 Oct 2024) EndedAt: 2024-10-18 15:57:04 -0400 (Fri, 18 Oct 2024) EllapsedTime: 236.4 seconds RetCode: 0 Status: OK CheckDir: trigger.Rcheck Warnings: 0