Package: trigger Version: 1.50.0 Command: rm -rf trigger.buildbin-libdir && mkdir trigger.buildbin-libdir && /Users/biocbuild/BBS/utils/build-universal.sh trigger_1.50.0.tar.gz /Library/Frameworks/R.framework/Resources/bin/R trigger.buildbin-libdir StartedAt: 2024-10-15 20:42:59 -0400 (Tue, 15 Oct 2024) EndedAt: 2024-10-15 20:43:36 -0400 (Tue, 15 Oct 2024) EllapsedTime: 37.3 seconds RetCode: 0 Status: OK PackageFile: trigger_1.50.0.tgz PackageFileSize: 2.21 MiB