Package: tricycle Version: 1.12.0 Command: /Library/Frameworks/R.framework/Resources/bin/R CMD INSTALL tricycle StartedAt: 2024-10-16 16:37:30 -0400 (Wed, 16 Oct 2024) EndedAt: 2024-10-16 16:38:46 -0400 (Wed, 16 Oct 2024) EllapsedTime: 76.1 seconds RetCode: 0 Status: OK