Package: treeclimbR Version: 1.0.0 Command: E:\biocbuild\bbs-3.19-bioc\R\bin\R.exe CMD INSTALL treeclimbR StartedAt: 2024-10-16 17:20:24 -0400 (Wed, 16 Oct 2024) EndedAt: 2024-10-16 17:21:50 -0400 (Wed, 16 Oct 2024) EllapsedTime: 85.4 seconds RetCode: 0 Status: OK