Package: treeclimbR Version: 1.0.0 Command: E:\biocbuild\bbs-3.19-bioc\R\bin\R.exe CMD check --no-multiarch --install=check:treeclimbR.install-out.txt --library=E:\biocbuild\bbs-3.19-bioc\R\library --no-vignettes --timings treeclimbR_1.0.0.tar.gz StartedAt: 2024-10-17 06:40:02 -0400 (Thu, 17 Oct 2024) EndedAt: 2024-10-17 06:47:02 -0400 (Thu, 17 Oct 2024) EllapsedTime: 420.0 seconds RetCode: 1 Status: ERROR CheckDir: treeclimbR.Rcheck Warnings: NA