Package: treeclimbR Version: 1.0.0 Command: rm -rf treeclimbR.buildbin-libdir && mkdir treeclimbR.buildbin-libdir && E:\biocbuild\bbs-3.19-bioc\R\bin\R.exe CMD INSTALL --build --library=treeclimbR.buildbin-libdir treeclimbR_1.0.0.tar.gz StartedAt: 2024-10-17 08:48:32 -0400 (Thu, 17 Oct 2024) EndedAt: 2024-10-17 08:49:18 -0400 (Thu, 17 Oct 2024) EllapsedTime: 45.9 seconds RetCode: 0 Status: OK PackageFile: treeclimbR_1.0.0.zip PackageFileSize: 730.5 KiB