Package: treeclimbR Version: 1.0.0 Command: rm -rf treeclimbR.buildbin-libdir && mkdir treeclimbR.buildbin-libdir && F:\biocbuild\bbs-3.19-bioc\R\bin\R.exe CMD INSTALL --build --library=treeclimbR.buildbin-libdir treeclimbR_1.0.0.tar.gz StartedAt: 2024-06-27 09:04:04 -0400 (Thu, 27 Jun 2024) EndedAt: 2024-06-27 09:05:07 -0400 (Thu, 27 Jun 2024) EllapsedTime: 62.8 seconds RetCode: 0 Status: OK PackageFile: treeclimbR_1.0.0.zip PackageFileSize: 730.5 KiB