############################################################################## ############################################################################## ### ### Running command: ### ### /home/biocbuild/bbs-3.19-bioc/R/bin/R CMD check --install=check:treeclimbR.install-out.txt --library=/home/biocbuild/bbs-3.19-bioc/R/site-library --timings treeclimbR_1.0.0.tar.gz ### ############################################################################## ############################################################################## * using log directory ‘/home/biocbuild/bbs-3.19-bioc/meat/treeclimbR.Rcheck’ * using R version 4.4.1 (2024-06-14) * using platform: x86_64-pc-linux-gnu * R was compiled by gcc (Ubuntu 11.4.0-1ubuntu1~22.04) 11.4.0 GNU Fortran (Ubuntu 11.4.0-1ubuntu1~22.04) 11.4.0 * running under: Ubuntu 22.04.5 LTS * using session charset: UTF-8 * checking for file ‘treeclimbR/DESCRIPTION’ ... OK * checking extension type ... Package * this is package ‘treeclimbR’ version ‘1.0.0’ * package encoding: UTF-8 * checking package namespace information ... OK * checking package dependencies ... OK * checking if this is a source package ... OK * checking if there is a namespace ... OK * checking for hidden files and directories ... OK * checking for portable file names ... OK * checking for sufficient/correct file permissions ... OK * checking whether package ‘treeclimbR’ can be installed ... OK * checking installed package size ... OK * checking package directory ... OK * checking ‘build’ directory ... OK * checking DESCRIPTION meta-information ... OK * checking top-level files ... OK * checking for left-over files ... OK * checking index information ... OK * checking package subdirectories ... OK * checking code files for non-ASCII characters ... OK * checking R files for syntax errors ... OK * checking whether the package can be loaded ... OK * checking whether the package can be loaded with stated dependencies ... OK * checking whether the package can be unloaded cleanly ... OK * checking whether the namespace can be loaded with stated dependencies ... OK * checking whether the namespace can be unloaded cleanly ... OK * checking loading without being on the library search path ... OK * checking dependencies in R code ... OK * checking S3 generic/method consistency ... OK * checking replacement functions ... OK * checking foreign function calls ... OK * checking R code for possible problems ... OK * checking Rd files ... OK * checking Rd metadata ... OK * checking Rd cross-references ... OK * checking for missing documentation entries ... OK * checking for code/documentation mismatches ... OK * checking Rd \usage sections ... OK * checking Rd contents ... OK * checking for unstated dependencies in examples ... OK * checking files in ‘vignettes’ ... OK * checking examples ... OK Examples with CPU (user + system) or elapsed time > 5s user system elapsed diffcyt_workflow 11.039 0.076 11.116 TreeHeatmap 5.316 0.036 5.352 * checking for unstated dependencies in ‘tests’ ... OK * checking tests ... Running ‘testthat.R’ ERROR Running the tests in ‘tests/testthat.R’ failed. Last 13 lines of output: `expected`: "3" "5" "6" "1" "6" ── Failure ('test-nodeResult.R:144:5'): nodeResult works ─────────────────────── out$node (`actual`) not equal to c(9, 7, 4, 1, 8, 9, 19, 2) (`expected`). `actual`: 9 7 8 4 1 9 19 9 `expected`: 9 7 4 1 8 9 19 2 ── Failure ('test-nodeResult.R:145:5'): nodeResult works ─────────────────────── out$feature (`actual`) not equal to as.character(c(3, 1, 1, 3, 3, 8, 1, 6)) (`expected`). `actual`: "3" "1" "3" "1" "3" "8" "1" "1" `expected`: "3" "1" "1" "3" "3" "8" "1" "6" [ FAIL 4 | WARN 0 | SKIP 0 | PASS 2081 ] Error: Test failures Execution halted * checking for unstated dependencies in vignettes ... OK * checking package vignettes ... OK * checking re-building of vignette outputs ... OK * checking PDF version of manual ... OK * DONE Status: 1 ERROR See ‘/home/biocbuild/bbs-3.19-bioc/meat/treeclimbR.Rcheck/00check.log’ for details.