Package: traviz Version: 1.10.0 Command: chmod a+r traviz -R && E:\biocbuild\bbs-3.19-bioc\R\bin\R.exe CMD build --keep-empty-dirs --no-resave-data traviz StartedAt: 2024-10-16 22:24:48 -0400 (Wed, 16 Oct 2024) EndedAt: 2024-10-16 22:25:47 -0400 (Wed, 16 Oct 2024) EllapsedTime: 59.3 seconds RetCode: 0 Status: OK PackageFile: traviz_1.10.0.tar.gz PackageFileSize: 1.931 MiB