Package: traviz Version: 1.10.0 Command: rm -rf traviz.buildbin-libdir && mkdir traviz.buildbin-libdir && F:\biocbuild\bbs-3.19-bioc\R\bin\R.exe CMD INSTALL --build --library=traviz.buildbin-libdir traviz_1.10.0.tar.gz StartedAt: 2024-06-27 09:04:00 -0400 (Thu, 27 Jun 2024) EndedAt: 2024-06-27 09:04:39 -0400 (Thu, 27 Jun 2024) EllapsedTime: 38.5 seconds RetCode: 0 Status: OK PackageFile: traviz_1.10.0.zip PackageFileSize: 2.004 MiB