Package: traviz Version: 1.10.0 Command: /home/biocbuild/bbs-3.19-bioc/R/bin/R CMD build --keep-empty-dirs --no-resave-data traviz StartedAt: 2024-10-16 21:13:59 -0400 (Wed, 16 Oct 2024) EndedAt: 2024-10-16 21:14:47 -0400 (Wed, 16 Oct 2024) EllapsedTime: 48.1 seconds RetCode: 0 Status: OK PackageFile: traviz_1.10.0.tar.gz PackageFileSize: 3.079 MiB