Package: traviz Version: 1.10.0 Command: /Library/Frameworks/R.framework/Resources/bin/R CMD check --install=check:traviz.install-out.txt --library=/Library/Frameworks/R.framework/Resources/library --no-vignettes --timings traviz_1.10.0.tar.gz StartedAt: 2024-10-17 14:37:02 -0400 (Thu, 17 Oct 2024) EndedAt: 2024-10-17 14:46:00 -0400 (Thu, 17 Oct 2024) EllapsedTime: 538.1 seconds RetCode: 0 Status: OK CheckDir: traviz.Rcheck Warnings: 0