Package: traviz Version: 1.10.0 Command: /home/biocbuild/R/R-beta-2024-04-15_r86425/bin/R CMD check --install=check:traviz.install-out.txt --library=/home/biocbuild/R/R-beta-2024-04-15_r86425/site-library --no-vignettes --timings traviz_1.10.0.tar.gz StartedAt: 2024-05-08 12:51:40 -0000 (Wed, 08 May 2024) EndedAt: 2024-05-08 12:56:13 -0000 (Wed, 08 May 2024) EllapsedTime: 273.5 seconds RetCode: 0 Status: OK CheckDir: traviz.Rcheck Warnings: 0