Package: traviz Version: 1.10.0 Command: /Library/Frameworks/R.framework/Resources/bin/R CMD INSTALL traviz StartedAt: 2024-06-09 16:17:23 -0400 (Sun, 09 Jun 2024) EndedAt: 2024-06-09 16:18:01 -0400 (Sun, 09 Jun 2024) EllapsedTime: 38.4 seconds RetCode: 0 Status: OK