Package: traviz Version: 1.10.0 Command: /Library/Frameworks/R.framework/Resources/bin/R CMD INSTALL traviz StartedAt: 2024-10-16 17:12:35 -0400 (Wed, 16 Oct 2024) EndedAt: 2024-10-16 17:13:06 -0400 (Wed, 16 Oct 2024) EllapsedTime: 30.9 seconds RetCode: 0 Status: OK