Package: traseR Version: 1.34.0 Command: rm -rf traseR.buildbin-libdir && mkdir traseR.buildbin-libdir && E:\biocbuild\bbs-3.19-bioc\R\bin\R.exe CMD INSTALL --build --library=traseR.buildbin-libdir traseR_1.34.0.tar.gz StartedAt: 2024-10-17 08:48:26 -0400 (Thu, 17 Oct 2024) EndedAt: 2024-10-17 08:49:05 -0400 (Thu, 17 Oct 2024) EllapsedTime: 39.4 seconds RetCode: 0 Status: OK PackageFile: traseR_1.34.0.zip PackageFileSize: 6.294 MiB