Package: traseR Version: 1.34.0 Command: F:\biocbuild\bbs-3.19-bioc\R\bin\R.exe CMD check --no-multiarch --install=check:traseR.install-out.txt --library=F:\biocbuild\bbs-3.19-bioc\R\library --no-vignettes --timings traseR_1.34.0.tar.gz StartedAt: 2024-06-27 07:06:17 -0400 (Thu, 27 Jun 2024) EndedAt: 2024-06-27 07:11:29 -0400 (Thu, 27 Jun 2024) EllapsedTime: 312.0 seconds RetCode: 0 Status: OK CheckDir: traseR.Rcheck Warnings: 0