Package: traseR Version: 1.34.0 Command: /home/biocbuild/bbs-3.19-bioc/R/bin/R CMD build --keep-empty-dirs --no-resave-data traseR StartedAt: 2024-10-16 21:13:59 -0400 (Wed, 16 Oct 2024) EndedAt: 2024-10-16 21:14:50 -0400 (Wed, 16 Oct 2024) EllapsedTime: 51.1 seconds RetCode: 0 Status: OK PackageFile: traseR_1.34.0.tar.gz PackageFileSize: 6.222 MiB