Package: traseR Version: 1.34.0 Command: /Library/Frameworks/R.framework/Resources/bin/R CMD check --install=check:traseR.install-out.txt --library=/Library/Frameworks/R.framework/Resources/library --no-vignettes --timings traseR_1.34.0.tar.gz StartedAt: 2024-10-17 14:36:06 -0400 (Thu, 17 Oct 2024) EndedAt: 2024-10-17 14:46:17 -0400 (Thu, 17 Oct 2024) EllapsedTime: 611.0 seconds RetCode: 0 Status: OK CheckDir: traseR.Rcheck Warnings: 0