Package: traseR Version: 1.34.0 Command: /home/biocbuild/R/R-beta-2024-04-15_r86425/bin/R CMD check --install=check:traseR.install-out.txt --library=/home/biocbuild/R/R-beta-2024-04-15_r86425/site-library --no-vignettes --timings traseR_1.34.0.tar.gz StartedAt: 2024-05-08 12:51:07 -0000 (Wed, 08 May 2024) EndedAt: 2024-05-08 12:56:40 -0000 (Wed, 08 May 2024) EllapsedTime: 333.6 seconds RetCode: 0 Status: OK CheckDir: traseR.Rcheck Warnings: 0