Package: traseR Version: 1.34.0 Command: /Library/Frameworks/R.framework/Resources/bin/R CMD check --install=check:traseR.install-out.txt --library=/Library/Frameworks/R.framework/Resources/library --no-vignettes --timings traseR_1.34.0.tar.gz StartedAt: 2024-10-18 15:43:25 -0400 (Fri, 18 Oct 2024) EndedAt: 2024-10-18 15:48:23 -0400 (Fri, 18 Oct 2024) EllapsedTime: 298.0 seconds RetCode: 0 Status: OK CheckDir: traseR.Rcheck Warnings: 0